BEGIN:VCALENDAR
VERSION:2.0
PRODID:-//NHVA - ECPv6.15.20//NONSGML v1.0//EN
CALSCALE:GREGORIAN
METHOD:PUBLISH
X-WR-CALNAME:NHVA
X-ORIGINAL-URL:https://nhva.site
X-WR-CALDESC:Events for NHVA
REFRESH-INTERVAL;VALUE=DURATION:PT1H
X-Robots-Tag:noindex
X-PUBLISHED-TTL:PT1H
BEGIN:VTIMEZONE
TZID:America/Los_Angeles
BEGIN:DAYLIGHT
TZOFFSETFROM:-0800
TZOFFSETTO:-0700
TZNAME:PDT
DTSTART:20220313T100000
END:DAYLIGHT
BEGIN:STANDARD
TZOFFSETFROM:-0700
TZOFFSETTO:-0800
TZNAME:PST
DTSTART:20221106T090000
END:STANDARD
BEGIN:DAYLIGHT
TZOFFSETFROM:-0800
TZOFFSETTO:-0700
TZNAME:PDT
DTSTART:20230312T100000
END:DAYLIGHT
BEGIN:STANDARD
TZOFFSETFROM:-0700
TZOFFSETTO:-0800
TZNAME:PST
DTSTART:20231105T090000
END:STANDARD
BEGIN:DAYLIGHT
TZOFFSETFROM:-0800
TZOFFSETTO:-0700
TZNAME:PDT
DTSTART:20240310T100000
END:DAYLIGHT
BEGIN:STANDARD
TZOFFSETFROM:-0700
TZOFFSETTO:-0800
TZNAME:PST
DTSTART:20241103T090000
END:STANDARD
END:VTIMEZONE
BEGIN:VTIMEZONE
TZID:UTC
BEGIN:STANDARD
TZOFFSETFROM:+0000
TZOFFSETTO:+0000
TZNAME:UTC
DTSTART:20220101T000000
END:STANDARD
END:VTIMEZONE
BEGIN:VTIMEZONE
TZID:America/New_York
BEGIN:DAYLIGHT
TZOFFSETFROM:-0500
TZOFFSETTO:-0400
TZNAME:EDT
DTSTART:20220313T070000
END:DAYLIGHT
BEGIN:STANDARD
TZOFFSETFROM:-0400
TZOFFSETTO:-0500
TZNAME:EST
DTSTART:20221106T060000
END:STANDARD
BEGIN:DAYLIGHT
TZOFFSETFROM:-0500
TZOFFSETTO:-0400
TZNAME:EDT
DTSTART:20230312T070000
END:DAYLIGHT
BEGIN:STANDARD
TZOFFSETFROM:-0400
TZOFFSETTO:-0500
TZNAME:EST
DTSTART:20231105T060000
END:STANDARD
BEGIN:DAYLIGHT
TZOFFSETFROM:-0500
TZOFFSETTO:-0400
TZNAME:EDT
DTSTART:20240310T070000
END:DAYLIGHT
BEGIN:STANDARD
TZOFFSETFROM:-0400
TZOFFSETTO:-0500
TZNAME:EST
DTSTART:20241103T060000
END:STANDARD
END:VTIMEZONE
BEGIN:VEVENT
DTSTART;TZID=America/Los_Angeles:20231104T100000
DTEND;TZID=America/Los_Angeles:20231104T100000
DTSTAMP:20260422T232001
CREATED:20221031T203321Z
LAST-MODIFIED:20221031T203321Z
UID:1382-1699092000-1699092000@nhva.site
SUMMARY:General Meeting
DESCRIPTION:General Meeting\, Concord NH American Legion
URL:https://nhva.site/event/general-meeting-3/
LOCATION:Concord NH American Legion\, NH
CATEGORIES:NHVA Events
ORGANIZER;CN="NHVA":MAILTO:nhvaorg@gmail.com
END:VEVENT
BEGIN:VEVENT
DTSTART;TZID=America/Los_Angeles:20230812T100000
DTEND;TZID=America/Los_Angeles:20230812T100000
DTSTAMP:20260422T232001
CREATED:20221031T202800Z
LAST-MODIFIED:20221031T202914Z
UID:1376-1691834400-1691834400@nhva.site
SUMMARY:Annual Meeting
DESCRIPTION:Annual Meeting\, Weirs Headquarters\, Laconia\, NH
URL:https://nhva.site/event/annual-meeting/
LOCATION:Weirs Headquarters\, Laconia\, NH\, NH
CATEGORIES:NHVA Events
ORGANIZER;CN="NHVA":MAILTO:nhvaorg@gmail.com
END:VEVENT
BEGIN:VEVENT
DTSTART;TZID=America/Los_Angeles:20230812T093000
DTEND;TZID=America/Los_Angeles:20230812T093000
DTSTAMP:20260422T232001
CREATED:20211210T201827Z
LAST-MODIFIED:20221031T202747Z
UID:1059-1691832600-1691832600@nhva.site
SUMMARY:148th Encampment
DESCRIPTION:148th Encampment\, Weirs Headquarters\, Laconia\, NH
URL:https://nhva.site/event/general-meeting-2/
LOCATION:Weirs Headquarters\, Laconia\, NH\, NH
CATEGORIES:NHVA Events
ORGANIZER;CN="NHVA":MAILTO:nhvaorg@gmail.com
END:VEVENT
BEGIN:VEVENT
DTSTART;TZID=UTC:20230715T100000
DTEND;TZID=UTC:20230715T100000
DTSTAMP:20260422T232001
CREATED:20211210T201745Z
LAST-MODIFIED:20221031T202636Z
UID:1057-1689415200-1689415200@nhva.site
SUMMARY:Officers & BOD Meeting
DESCRIPTION:Officers & BOD Meeting\, Weirs Headquarters\, Laconia\, NH
URL:https://nhva.site/event/147th-encampment-annual-meeting/
LOCATION:Weirs Headquarters\, Laconia\, NH\, NH
CATEGORIES:NHVA Events
ORGANIZER;CN="NHVA":MAILTO:nhvaorg@gmail.com
END:VEVENT
BEGIN:VEVENT
DTSTART;VALUE=DATE:20230610
DTEND;VALUE=DATE:20230619
DTSTAMP:20260422T232001
CREATED:20211210T201705Z
LAST-MODIFIED:20221031T202520Z
UID:1055-1686355200-1687132799@nhva.site
SUMMARY:100th Anniversary Bike Week
DESCRIPTION:100th Anniversary Bike Week
URL:https://nhva.site/event/bod-meeting/
LOCATION:NHVA Compound\, Weirs Beach\, Laconia\, NH\, United States
CATEGORIES:NHVA Events
ORGANIZER;CN="NHVA":MAILTO:nhvaorg@gmail.com
END:VEVENT
BEGIN:VEVENT
DTSTART;TZID=America/New_York:20230603T100000
DTEND;TZID=America/New_York:20230603T100000
DTSTAMP:20260422T232001
CREATED:20211210T201604Z
LAST-MODIFIED:20221031T202338Z
UID:1053-1685786400-1685786400@nhva.site
SUMMARY:General Meeting
DESCRIPTION:Meeting\, Weirs Headquarters\, Laconia\, NH
URL:https://nhva.site/event/flag-retirement/
LOCATION:Weirs Headquarters\, Laconia\, NH\, NH
CATEGORIES:NHVA Events
ORGANIZER;CN="NHVA":MAILTO:nhvaorg@gmail.com
END:VEVENT
BEGIN:VEVENT
DTSTART;VALUE=DATE:20230601
DTEND;VALUE=DATE:20230602
DTSTAMP:20260422T232001
CREATED:20211210T201507Z
LAST-MODIFIED:20221031T202158Z
UID:1050-1685577600-1685663999@nhva.site
SUMMARY:Cottages Open For The 2023 Season
DESCRIPTION:Cottages Open For The 2023 Season
URL:https://nhva.site/event/99th-year-2022-laconia-motorcycle-week/
LOCATION:NHVA Compound\, Weirs Beach\, Laconia\, NH\, United States
CATEGORIES:NHVA Events
ORGANIZER;CN="NHVA":MAILTO:nhvaorg@gmail.com
END:VEVENT
BEGIN:VEVENT
DTSTART;TZID=America/New_York:20230521T130000
DTEND;TZID=America/New_York:20230521T130000
DTSTAMP:20260422T232001
CREATED:20211210T201252Z
LAST-MODIFIED:20221124T191045Z
UID:1048-1684674000-1684674000@nhva.site
SUMMARY:NHVA History Tour
DESCRIPTION:NHVA History Tour
URL:https://nhva.site/event/general-meeting/
LOCATION:NHVA Compound\, Weirs Beach\, Laconia\, NH\, United States
CATEGORIES:NHVA Events
ORGANIZER;CN="NHVA":MAILTO:nhvaorg@gmail.com
END:VEVENT
BEGIN:VEVENT
DTSTART;VALUE=DATE:20230521
DTEND;VALUE=DATE:20230522
DTSTAMP:20260422T232001
CREATED:20211210T201051Z
LAST-MODIFIED:20221031T202053Z
UID:1044-1684627200-1684713599@nhva.site
SUMMARY:NHVA Campground Opens For Season
DESCRIPTION:NHVA Campground Opens For Season
URL:https://nhva.site/event/open-house-history-tour/
LOCATION:NHVA Compound\, Weirs Beach\, Laconia\, NH\, United States
CATEGORIES:NHVA Events
ORGANIZER;CN="NHVA":MAILTO:nhvaorg@gmail.com
END:VEVENT
BEGIN:VEVENT
DTSTART;TZID=America/New_York:20230520T090000
DTEND;TZID=America/New_York:20230520T090000
DTSTAMP:20260422T232001
CREATED:20211210T200933Z
LAST-MODIFIED:20221031T201741Z
UID:1039-1684573200-1684573200@nhva.site
SUMMARY:Clean Up NHVA Compound\, Weirs Beach\, Laconia
DESCRIPTION:Cleanup\, Weirs Headquarters Laconia\, NH
URL:https://nhva.site/event/clean-up-nhva-compound-weirs-beach-laconia/
LOCATION:Weirs Headquarters Laconia\, NH\, NH
CATEGORIES:NHVA Events
ORGANIZER;CN="NHVA":MAILTO:nhvaorg@gmail.com
END:VEVENT
BEGIN:VEVENT
DTSTART;TZID=America/Los_Angeles:20230415T100000
DTEND;TZID=America/Los_Angeles:20230415T100000
DTSTAMP:20260422T232001
CREATED:20211210T200326Z
LAST-MODIFIED:20221031T201742Z
UID:1034-1681552800-1681552800@nhva.site
SUMMARY:General Meeting
DESCRIPTION:General Meeting at Concord\, NH American Legion
URL:https://nhva.site/event/general-meeting-at-concord-american-legion-post-21-7-perley-st/
LOCATION:Concord\, NH American Legion
CATEGORIES:NHVA Events
ORGANIZER;CN="NHVA":MAILTO:nhvaorg@gmail.com
END:VEVENT
END:VCALENDAR