BEGIN:VCALENDAR
VERSION:2.0
PRODID:-//NHVA - ECPv6.15.20//NONSGML v1.0//EN
CALSCALE:GREGORIAN
METHOD:PUBLISH
X-WR-CALNAME:NHVA
X-ORIGINAL-URL:https://nhva.site
X-WR-CALDESC:Events for NHVA
REFRESH-INTERVAL;VALUE=DURATION:PT1H
X-Robots-Tag:noindex
X-PUBLISHED-TTL:PT1H
BEGIN:VTIMEZONE
TZID:UTC
BEGIN:STANDARD
TZOFFSETFROM:+0000
TZOFFSETTO:+0000
TZNAME:UTC
DTSTART:20240101T000000
END:STANDARD
END:VTIMEZONE
BEGIN:VTIMEZONE
TZID:America/New_York
BEGIN:DAYLIGHT
TZOFFSETFROM:-0500
TZOFFSETTO:-0400
TZNAME:EDT
DTSTART:20250309T070000
END:DAYLIGHT
BEGIN:STANDARD
TZOFFSETFROM:-0400
TZOFFSETTO:-0500
TZNAME:EST
DTSTART:20251102T060000
END:STANDARD
BEGIN:DAYLIGHT
TZOFFSETFROM:-0500
TZOFFSETTO:-0400
TZNAME:EDT
DTSTART:20260308T070000
END:DAYLIGHT
BEGIN:STANDARD
TZOFFSETFROM:-0400
TZOFFSETTO:-0500
TZNAME:EST
DTSTART:20261101T060000
END:STANDARD
BEGIN:DAYLIGHT
TZOFFSETFROM:-0500
TZOFFSETTO:-0400
TZNAME:EDT
DTSTART:20270314T070000
END:DAYLIGHT
BEGIN:STANDARD
TZOFFSETFROM:-0400
TZOFFSETTO:-0500
TZNAME:EST
DTSTART:20271107T060000
END:STANDARD
END:VTIMEZONE
BEGIN:VEVENT
DTSTART;TZID=UTC:20250607T100000
DTEND;TZID=UTC:20250607T110000
DTSTAMP:20260422T231833
CREATED:20250502T171909Z
LAST-MODIFIED:20250502T171909Z
UID:1594-1749290400-1749294000@nhva.site
SUMMARY:NHVA General Meeting
DESCRIPTION:
URL:https://nhva.site/event/nhva-general-meeting-3/
LOCATION:NHVA Headquarters bldg
END:VEVENT
BEGIN:VEVENT
DTSTART;TZID=UTC:20250607T100000
DTEND;TZID=UTC:20250607T110000
DTSTAMP:20260422T231833
CREATED:20250502T171947Z
LAST-MODIFIED:20250502T171947Z
UID:1597-1749290400-1749294000@nhva.site
SUMMARY:Opening Day for Cottage Rentals
DESCRIPTION:
URL:https://nhva.site/event/opening-day-for-cottage-rentals/
LOCATION:Cottage Rentals
END:VEVENT
BEGIN:VEVENT
DTSTART;TZID=UTC:20250614T080000
DTEND;TZID=UTC:20250622T170000
DTSTAMP:20260422T231833
CREATED:20250502T172115Z
LAST-MODIFIED:20250502T172115Z
UID:1600-1749888000-1750611600@nhva.site
SUMMARY:102nd Year Weirs Beach Bike Week
DESCRIPTION:
URL:https://nhva.site/event/102nd-year-weirs-beach-bike-week/
LOCATION:Weirs Beach HQ\, United States
END:VEVENT
BEGIN:VEVENT
DTSTART;TZID=UTC:20250617T120000
DTEND;TZID=UTC:20250617T130000
DTSTAMP:20260422T231833
CREATED:20250602T191553Z
LAST-MODIFIED:20250602T191553Z
UID:1617-1750161600-1750165200@nhva.site
SUMMARY:American Flag Burning Ceremony
DESCRIPTION:
URL:https://nhva.site/event/american-flag-burning-ceremony/
END:VEVENT
BEGIN:VEVENT
DTSTART;VALUE=DATE:20250712
DTEND;VALUE=DATE:20250713
DTSTAMP:20260422T231833
CREATED:20250502T172139Z
LAST-MODIFIED:20250502T172209Z
UID:1602-1752278400-1752364799@nhva.site
SUMMARY:NHVA BOD Meeting
DESCRIPTION:
URL:https://nhva.site/event/nhva-bod-meeting/
END:VEVENT
BEGIN:VEVENT
DTSTART;VALUE=DATE:20250809
DTEND;VALUE=DATE:20250810
DTSTAMP:20260422T231833
CREATED:20250502T172319Z
LAST-MODIFIED:20250502T172319Z
UID:1607-1754697600-1754783999@nhva.site
SUMMARY:150th Encampment Anniversary
DESCRIPTION:
URL:https://nhva.site/event/150th-encampment-anniversary/
END:VEVENT
BEGIN:VEVENT
DTSTART;TZID=UTC:20250809T080000
DTEND;TZID=UTC:20250816T170000
DTSTAMP:20260422T231833
CREATED:20250502T173312Z
LAST-MODIFIED:20250502T173312Z
UID:1609-1754726400-1755363600@nhva.site
SUMMARY:NHVA Cavalry Week
DESCRIPTION:
URL:https://nhva.site/event/nhva-cavalry-week/
END:VEVENT
BEGIN:VEVENT
DTSTART;TZID=UTC:20250809T100000
DTEND;TZID=UTC:20250809T110000
DTSTAMP:20260422T231833
CREATED:20250502T172252Z
LAST-MODIFIED:20250502T172252Z
UID:1604-1754733600-1754737200@nhva.site
SUMMARY:NHVA General Meeting
DESCRIPTION:
URL:https://nhva.site/event/nhva-general-meeting-4/
LOCATION:Weirs Beach NHVA Headquarter bldg
END:VEVENT
BEGIN:VEVENT
DTSTART;TZID=UTC:20251101T100000
DTEND;TZID=UTC:20251101T170000
DTSTAMP:20260422T231833
CREATED:20250502T173353Z
LAST-MODIFIED:20250502T173353Z
UID:1611-1761991200-1762016400@nhva.site
SUMMARY:NHVA General Meeting
DESCRIPTION:
URL:https://nhva.site/event/nhva-general-meeting-5/
LOCATION:American Legion\, 7 Perley Street\, Concord\, NH\, 03301\, United States
END:VEVENT
BEGIN:VEVENT
DTSTART;TZID=America/New_York:20260404T100000
DTEND;TZID=America/New_York:20260404T120000
DTSTAMP:20260422T231833
CREATED:20251108T203148Z
LAST-MODIFIED:20251108T204918Z
UID:1673-1775296800-1775304000@nhva.site
SUMMARY:NHVA General Meeting
DESCRIPTION:Members of the NHVA are welcome to join the first general meeting of 2026.
URL:https://nhva.site/event/nhva-general-meeting-6/
LOCATION:American Legion\, 7 Perley Street\, Concord\, NH\, 03301\, United States
ORGANIZER;CN="NHVA":MAILTO:nhvaorg@gmail.com
END:VEVENT
BEGIN:VEVENT
DTSTART;TZID=America/New_York:20260509T090000
DTEND;TZID=America/New_York:20260509T170000
DTSTAMP:20260422T231833
CREATED:20251108T204043Z
LAST-MODIFIED:20251108T204530Z
UID:1677-1778317200-1778346000@nhva.site
SUMMARY:NHVA Camp Cleanup Day
DESCRIPTION:Members are welcomed and encouraged to help cleanup the NHVA property in preparation for the 2026 season. \n 
URL:https://nhva.site/event/nhva-camp-cleanup-day/
LOCATION:NHVA Compound\, Weirs Beach\, Laconia\, NH\, United States
ORGANIZER;CN="NHVA":MAILTO:nhvaorg@gmail.com
END:VEVENT
BEGIN:VEVENT
DTSTART;VALUE=DATE:20260516
DTEND;VALUE=DATE:20260517
DTSTAMP:20260422T231833
CREATED:20251108T204847Z
LAST-MODIFIED:20251108T204847Z
UID:1684-1778889600-1778975999@nhva.site
SUMMARY:NHVA Tour Day
DESCRIPTION:The NHVA is open to the public for tours by our historian.
URL:https://nhva.site/event/nhva-tour-day/
LOCATION:NHVA Compound\, Weirs Beach\, Laconia\, NH\, United States
ORGANIZER;CN="NHVA":MAILTO:nhvaorg@gmail.com
END:VEVENT
BEGIN:VEVENT
DTSTART;VALUE=DATE:20260606
DTEND;VALUE=DATE:20260607
DTSTAMP:20260422T231833
CREATED:20251108T205145Z
LAST-MODIFIED:20251108T205145Z
UID:1686-1780704000-1780790399@nhva.site
SUMMARY:NHVA Opening Day for Cottage Rentals
DESCRIPTION:The cottages are open and available for rent to members.
URL:https://nhva.site/event/nhva-opening-day-for-cottage-rentals/
LOCATION:NHVA Compound\, Weirs Beach\, Laconia\, NH\, United States
ORGANIZER;CN="NHVA":MAILTO:nhvaorg@gmail.com
END:VEVENT
BEGIN:VEVENT
DTSTART;VALUE=DATE:20260613
DTEND;VALUE=DATE:20260622
DTSTAMP:20260422T231833
CREATED:20251108T205417Z
LAST-MODIFIED:20251108T205417Z
UID:1690-1781308800-1782086399@nhva.site
SUMMARY:103rd Laconia Bike Week
DESCRIPTION:103rd annual bike week in Laconia takes place.
URL:https://nhva.site/event/103rd-laconia-bike-week/
LOCATION:Laconia\, New Hampshire
END:VEVENT
BEGIN:VEVENT
DTSTART;TZID=America/New_York:20260711T100000
DTEND;TZID=America/New_York:20260711T120000
DTSTAMP:20260422T231833
CREATED:20251108T205700Z
LAST-MODIFIED:20251108T205700Z
UID:1693-1783764000-1783771200@nhva.site
SUMMARY:NHVA Board of Directors Meeting
DESCRIPTION:Annual Board of Directors meeting takes place in the Headquarter building.
URL:https://nhva.site/event/nhva-board-of-directors-meeting/
LOCATION:NHVA Compound\, Weirs Beach\, Laconia\, NH\, United States
ORGANIZER;CN="NHVA":MAILTO:nhvaorg@gmail.com
END:VEVENT
BEGIN:VEVENT
DTSTART;VALUE=DATE:20260808
DTEND;VALUE=DATE:20260809
DTSTAMP:20260422T231833
CREATED:20251108T210222Z
LAST-MODIFIED:20251108T210222Z
UID:1698-1786147200-1786233599@nhva.site
SUMMARY:NHVA 1st Cavalry Week
DESCRIPTION:
URL:https://nhva.site/event/nhva-1st-cavalry-week/
LOCATION:NHVA Compound\, Weirs Beach\, Laconia\, NH\, United States
ORGANIZER;CN="NHVA":MAILTO:nhvaorg@gmail.com
END:VEVENT
BEGIN:VEVENT
DTSTART;TZID=America/New_York:20260808T100000
DTEND;TZID=America/New_York:20260808T140000
DTSTAMP:20260422T231833
CREATED:20251108T210050Z
LAST-MODIFIED:20251108T210050Z
UID:1695-1786183200-1786197600@nhva.site
SUMMARY:NHVA General Meeting/151st Encampment
DESCRIPTION:Members are welcome to join the NHVA general meeting in the headquarter building followed by the 151st encampment.
URL:https://nhva.site/event/nhva-general-meeting-151st-encampment/
LOCATION:NHVA Compound\, Weirs Beach\, Laconia\, NH\, United States
END:VEVENT
END:VCALENDAR